BEGIN:VCALENDAR
VERSION:2.0
PRODID:-//EIE, Inc. - ECPv6.15.20//NONSGML v1.0//EN
CALSCALE:GREGORIAN
METHOD:PUBLISH
X-WR-CALNAME:EIE, Inc.
X-ORIGINAL-URL:https://empowerinspireeducate.org
X-WR-CALDESC:Events for EIE, Inc.
REFRESH-INTERVAL;VALUE=DURATION:PT1H
X-Robots-Tag:noindex
X-PUBLISHED-TTL:PT1H
BEGIN:VTIMEZONE
TZID:UTC
BEGIN:STANDARD
TZOFFSETFROM:+0000
TZOFFSETTO:+0000
TZNAME:UTC
DTSTART:20230101T000000
END:STANDARD
END:VTIMEZONE
BEGIN:VEVENT
DTSTART;TZID=UTC:20251018T090000
DTEND;TZID=UTC:20251018T130000
DTSTAMP:20260420T065626
CREATED:20251005T173251Z
LAST-MODIFIED:20251005T174509Z
UID:279-1760778000-1760792400@empowerinspireeducate.org
SUMMARY:1st Annual Garage & Bake Sale
DESCRIPTION:🛍️ Garage & Bake Sale Fundraiser\n📅 Date: Saturday\, October 18\, 2025🕘 Time: 9:00 AM – 1:00 PM📍 Location: 100 Pine Circle\, Greenacres\, FL — ClubhouseHosted by: Empower\, Inspire\, Educate\, Inc. \n\n💜 Shop\, Snack\, and Support a Great Cause!\nJoin us for our Garage & Bake Sale Fundraiser — a fun community event supporting Empower\, Inspire\, Educate\, Inc. Browse amazing deals\, enjoy delicious treats\, and help make a difference! \nWe’ll have a wide variety of items from your favorite brands\, including Coach\, Nike\, Torrid\, Pampered Chef\, Pier 1\, and much more! \n\n🍪 What’s Happening\n🛍️ Garage Sale – Find great bargains on fashion\, home décor\, and more.🥪 Food & Drinks – The Keiser University Women’s Organization will be selling sandwiches\, chips\, and beverages.🍰 Bake Sale – Satisfy your sweet tooth with homemade goodies! \n\n💜 Come Be Part of the Fun\nEvery purchase supports our mission to empower\, inspire\, and educate the community. Bring a friend and enjoy a morning of shopping\, food\, and fellowship!
URL:https://empowerinspireeducate.org/event/1st-annual-garage-bake-sale/
ATTACH;FMTTYPE=image/png:https://empowerinspireeducate.org/wp-content/uploads/2025/10/BakeYard-Sale-Announcement-1.png
END:VEVENT
BEGIN:VEVENT
DTSTART;VALUE=DATE:20251016
DTEND;VALUE=DATE:20251017
DTSTAMP:20260420T065626
CREATED:20251005T174058Z
LAST-MODIFIED:20251005T174058Z
UID:282-1760572800-1760659199@empowerinspireeducate.org
SUMMARY:Purple Thursday
DESCRIPTION:💜 Purple Thursday 2025\n📅 Date: Thursday\, October 16\, 2025📍 Hosted by: Empower\, Inspire\, Educate\, Inc. \n\n💜 Stand with Us — Wear Purple!\nPurple Thursday is a national day of action dedicated to raising awareness about domestic violence and showing support for victims and survivors. \nWearing purple is a simple yet powerful way to stand in solidarity and spark meaningful conversations about prevention\, hope\, and healing. \n\n💜 How You Can Participate\n✅ Wear Purple on Thursday\, October 16th\, to show your support.✅ Tag us in your photos on social media and use #EIEPurpleThursday2025 to join the movement.✅ Encourage others — invite friends\, family\, and coworkers to participate and help spread awareness. \n\n💜 Together\, We Can Do More\nLet’s raise our voices\, spark change\, and promote a community built on safety\, respect\, and empowerment.
URL:https://empowerinspireeducate.org/event/purple-thursday/
ATTACH;FMTTYPE=image/png:https://empowerinspireeducate.org/wp-content/uploads/2025/10/Purple-Thursday.png
END:VEVENT
BEGIN:VEVENT
DTSTART;TZID=UTC:20240917T200000
DTEND;TZID=UTC:20240917T203000
DTSTAMP:20260420T065626
CREATED:20240905T035417Z
LAST-MODIFIED:20240905T042521Z
UID:219-1726603200-1726605000@empowerinspireeducate.org
SUMMARY:Facebook LIVE 8pm EST Informational webinar
DESCRIPTION:
URL:https://empowerinspireeducate.org/event/facebook-live-8pm-est-informational-webinar/
ATTACH;FMTTYPE=image/jpeg:https://empowerinspireeducate.org/wp-content/uploads/2024/09/454003299_122119843694354167_6157234876270057859_n.jpg
END:VEVENT
END:VCALENDAR